BEGIN:VCALENDAR
VERSION:2.0
PRODID:-//Diamond Indoor Trap Range - ECPv4.9.10//NONSGML v1.0//EN
CALSCALE:GREGORIAN
METHOD:PUBLISH
X-WR-CALNAME:Diamond Indoor Trap Range
X-ORIGINAL-URL:https://diamondindoortraprange.com
X-WR-CALDESC:Events for Diamond Indoor Trap Range
BEGIN:VTIMEZONE
TZID:UTC
BEGIN:STANDARD
TZOFFSETFROM:+0000
TZOFFSETTO:+0000
TZNAME:UTC
DTSTART:20210101T000000
END:STANDARD
END:VTIMEZONE
BEGIN:VEVENT
DTSTART;TZID=UTC:20210117T090000
DTEND;TZID=UTC:20210117T100000
DTSTAMP:20260424T131645
CREATED:20201231T173523Z
LAST-MODIFIED:20210103T232514Z
UID:2188-1610874000-1610877600@diamondindoortraprange.com
SUMMARY:Registered BIG 50
DESCRIPTION:Registration at 9am. Singles at 10am followed by handicap and doubles. \n
URL:https://diamondindoortraprange.com/event/registered-big-50-5/
LOCATION:Diamond Indoor Trap Range\, 2155 E Division\, Diamond\, IL\, 60416\, United States
ATTACH;FMTTYPE=image/jpeg:https://diamondindoortraprange.com/wp-content/uploads/2020/12/Big-50-Flier.jpg
END:VEVENT
END:VCALENDAR