BEGIN:VCALENDAR
VERSION:2.0
PRODID:-//Diamond Indoor Trap Range - ECPv4.9.10//NONSGML v1.0//EN
CALSCALE:GREGORIAN
METHOD:PUBLISH
X-WR-CALNAME:Diamond Indoor Trap Range
X-ORIGINAL-URL:https://diamondindoortraprange.com
X-WR-CALDESC:Events for Diamond Indoor Trap Range
BEGIN:VTIMEZONE
TZID:UTC
BEGIN:STANDARD
TZOFFSETFROM:+0000
TZOFFSETTO:+0000
TZNAME:UTC
DTSTART:20200101T000000
END:STANDARD
END:VTIMEZONE
BEGIN:VEVENT
DTSTART;TZID=UTC:20200920T100000
DTEND;TZID=UTC:20201102T200000
DTSTAMP:20260424T143454
CREATED:20200909T165828Z
LAST-MODIFIED:20200909T173454Z
UID:2101-1600596000-1604347200@diamondindoortraprange.com
SUMMARY:300 League Bird Shoot
DESCRIPTION:Shoot 50 birds a week. Start Date will be 9/20/2020 at 10:00 am until close and each Sunday for 6 weeks. Cost is $180.00 and INCLUDES AMM0-12 or 20G .410 and 28G additional charge. Lewis buy in $10.00 payout on total of 6 weeks scores. Winners will be First place and R/U in the following: High R/U Male\, Lady and Youth. First place- Case of Gold Metal Grand – $90.00 value. R/U – Case of Top Gun – $60.00 value. Youth under 18 – First place R/U trophies and a T-shirt. Call (815) 907-7345 Wednesday through Sunday 2-8pm or stop in and see us. Entry fee MUST be paid prior to shooting on 9/20/2020. \n
URL:https://diamondindoortraprange.com/event/300-league-bird-shoot/
LOCATION:Diamond Indoor Trap Range\, 2155 E Division\, Diamond\, IL\, 60416\, United States
ATTACH;FMTTYPE=image/jpeg:https://diamondindoortraprange.com/wp-content/uploads/2019/12/Front-West-Rendering.jpg
END:VEVENT
END:VCALENDAR